BEGIN:VCALENDAR
VERSION:2.0
PRODID:spatie/icalendar-generator
DESCRIPTION:Events from 
X-WR-CALDESC:Events from 
REFRESH-INTERVAL;VALUE=DURATION:PT1440M
X-PUBLISHED-TTL:PT1440M
BEGIN:VTIMEZONE
TZID:America/Chicago
BEGIN:STANDARD
DTSTART:20251102T020000Z
TZOFFSETFROM:-0500
TZOFFSETTO:-0600
END:STANDARD
BEGIN:DAYLIGHT
DTSTART:20260308T020000Z
TZOFFSETFROM:-0600
TZOFFSETTO:-0500
END:DAYLIGHT
END:VTIMEZONE
BEGIN:VTIMEZONE
TZID:UTC
BEGIN:STANDARD
DTSTART:20250725T103232Z
TZOFFSETFROM:+0000
TZOFFSETTO:+0000
END:STANDARD
END:VTIMEZONE
BEGIN:VEVENT
UID:640-60
DTSTAMP:20260421T103232Z
SUMMARY:Online Program\, \"Resist and Reimagine: Lessons from Minnesota on 
 Fighting Authoritarianism\,\" from People's Action.
LOCATION:Indivisible Virtual Event
ORGANIZER;CN=D Jeanne:MAILTO:ShephDJ@gmail.com
DTSTART;TZID=America/Chicago:20260212T180000
DTEND;TZID=America/Chicago:20260212T190000
X-ALT-DESC;FMTTYPE=TEXT/HTML:<p>Registration information for the Online Pro
 gram\, Resist and Reimagine: Lessons from Minnesota on Fighting Authoritar
 ianism\, from People's Action.</p>\n
CATEGORIES:Education,  Zoom call,  Action
URL;VALUE=URI:https://votebluemn.org/mc-events/online-program-resist-and-re
 imagine-lessons-from-minnesota-on-fighting-authoritarianism-from-peoples-a
 ction/
METHOD:PUBLISH
END:VEVENT
END:VCALENDAR