BEGIN:VCALENDAR
VERSION:2.0
PRODID:spatie/icalendar-generator
DESCRIPTION:Events from 
X-WR-CALDESC:Events from 
REFRESH-INTERVAL;VALUE=DURATION:PT1440M
X-PUBLISHED-TTL:PT1440M
BEGIN:VTIMEZONE
TZID:America/Chicago
BEGIN:STANDARD
DTSTART:20251102T020000Z
TZOFFSETFROM:-0500
TZOFFSETTO:-0600
END:STANDARD
BEGIN:DAYLIGHT
DTSTART:20260308T020000Z
TZOFFSETFROM:-0600
TZOFFSETTO:-0500
END:DAYLIGHT
END:VTIMEZONE
BEGIN:VTIMEZONE
TZID:UTC
BEGIN:STANDARD
DTSTART:20250726T103648Z
TZOFFSETFROM:+0000
TZOFFSETTO:+0000
END:STANDARD
END:VTIMEZONE
BEGIN:VEVENT
UID:639-59
DTSTAMP:20260422T103648Z
SUMMARY:No King's Protest #3 Today
LOCATION:Nationwide
ORGANIZER;CN=D Jeanne:MAILTO:ShephDJ@gmail.com
DTSTART;TZID=America/Chicago;VALUE=DATE:20260328
DTEND;TZID=America/Chicago;VALUE=DATE:20260329
X-ALT-DESC;FMTTYPE=TEXT/HTML:<p>The No Kings Coalition is activating an imm
 ediate and ongoing nationwide digital organizing effort leading up to our 
 next mass mobilization on March 28\, including a flagship event in the Twi
 n Cities.</p>\n
CATEGORIES:Action,  Protest
URL;VALUE=URI:https://votebluemn.org/mc-events/no-kings-protest-3-today/
METHOD:PUBLISH
END:VEVENT
END:VCALENDAR