BEGIN:VCALENDAR
VERSION:2.0
PRODID:spatie/icalendar-generator
DESCRIPTION:Events from 
X-WR-CALDESC:Events from 
REFRESH-INTERVAL;VALUE=DURATION:PT1440M
X-PUBLISHED-TTL:PT1440M
BEGIN:VTIMEZONE
TZID:America/Chicago
BEGIN:DAYLIGHT
DTSTART:20250309T020000Z
TZOFFSETFROM:-0600
TZOFFSETTO:-0500
END:DAYLIGHT
BEGIN:STANDARD
DTSTART:20251102T020000Z
TZOFFSETFROM:-0500
TZOFFSETTO:-0600
END:STANDARD
BEGIN:DAYLIGHT
DTSTART:20260308T020000Z
TZOFFSETFROM:-0600
TZOFFSETTO:-0500
END:DAYLIGHT
END:VTIMEZONE
BEGIN:VTIMEZONE
TZID:UTC
BEGIN:STANDARD
DTSTART:20250727T104423Z
TZOFFSETFROM:+0000
TZOFFSETTO:+0000
END:STANDARD
END:VTIMEZONE
BEGIN:VEVENT
UID:490-16
DTSTAMP:20260423T104423Z
SUMMARY:Persistence and Resistance: A Conversation Series about Women's Pow
 er: WOMEN IN POLITICS
LOCATION:Circle Pines City Hall\, 200 Civic Heights Cir\, Circle Pines\, MN
  55014 200 Civic Heights Cir  Circle Pines MN 55014
ORGANIZER;CN=D Jeanne:MAILTO:ShephDJ@gmail.com
DTSTART;TZID=America/Chicago:20251118T180000
DTEND;TZID=America/Chicago:20251118T200000
X-ALT-DESC;FMTTYPE=TEXT/HTML:<p>Reproductive Rights: a Persistence and Resi
 stance Conversation. The four-part series\, created by Anoka County Histor
 ical Society (ACHS) and co-sponsored by LWV ABC\, is an opportunity to eng
 age in conversation regarding society's perception of women throughout his
 tory\, the challenges they have faced\, and the valuable lessons we can dr
 aw from that legacy.</p>\n
CATEGORIES:Education,  Social,  General
URL;VALUE=URI:https://votebluemn.org/mc-events/persistence-and-resistance-a
 -conversation-series-about-womens-power-women-in-politics/
METHOD:PUBLISH
END:VEVENT
END:VCALENDAR